BEGIN:VCALENDAR
VERSION:2.0
PRODID:-//eTourismLab - ECPv6.0.9//NONSGML v1.0//EN
CALSCALE:GREGORIAN
METHOD:PUBLISH
X-WR-CALNAME:eTourismLab
X-ORIGINAL-URL:https://microsites.bournemouth.ac.uk/etourism-lab
X-WR-CALDESC:Events for eTourismLab
REFRESH-INTERVAL;VALUE=DURATION:PT1H
X-Robots-Tag:noindex
X-PUBLISHED-TTL:PT1H
BEGIN:VTIMEZONE
TZID:UTC
BEGIN:STANDARD
TZOFFSETFROM:+0000
TZOFFSETTO:+0000
TZNAME:UTC
DTSTART:20180101T000000
END:STANDARD
END:VTIMEZONE
BEGIN:VEVENT
DTSTART;VALUE=DATE:20180522
DTEND;VALUE=DATE:20180526
DTSTAMP:20260420T054022
CREATED:20171206T160944Z
LAST-MODIFIED:20171206T161137Z
UID:3042-1526947200-1527292799@microsites.bournemouth.ac.uk
SUMMARY:CHME 2018 Research Conference\, Bournemouth
DESCRIPTION:22-25 May 2018 Council for Hospitality Management Education CHME 2018 Conference Bournemouth University \n\nConference \nOn behalf of the Executive Committee of the Council for Hospitality Management Education (CHME)\, we are pleased to announce that BU’s Department of Tourism & Hospitality will be hosting the CHME 2018 Annual Research Conference next May.The Council for Hospitality Management Education (CHME) conference will take place on 22-25 May 2018 in Bournemouth\, https://www1.bournemouth.ac.uk/about/our-faculties/faculty-management/our-departments/department-tourism-hospitality/chme-2018-research-conference. The conference will be a showcase for research in innovative hospitality. The four thematic streams of the conference will be unchanged\, but we are also introducing new streams of ‘research on technology and innovation’ and ‘today’s and tomorrow’s consumers’.Our main theme – ‘Innovation in hospitality: connecting all stakeholders to deliver memorable experiences’ – embraces the multifaceted changes driven by dynamic political\, economic\, social and technological forces surrounding hospitality\, which affect both academia and industry. \nProvisional Programme \n\n\nCall for papers: \nhttps://www1.bournemouth.ac.uk/sites/default/files/asset/document/CHME2018Programme.pdf \n\n\nEarly bird registration open:\nFull CHME/BAHA/BHA/IoH members: £320\nNon-CHME/BAHA/BHA/IoH members: £420\nStudents: £190 \nRegister now \nWe look forward to welcoming you in Bournemouth with a vibrant academic and social programme at an inspiring conference. \n\n\nContact us\nDr Hanaa Osman\, CHME 2018 Conference Chair: hosman@bmth.ac.uk \nProf Dimitrios Buhalis: dbuhalis@bmth.ac.uk \nCrispin Farbrother: cfarbrother@bmth.ac.uk \nDr Evangelia Marinakou: emarinakou@bmth.ac.uk \n\n 
URL:https://microsites.bournemouth.ac.uk/etourism-lab/event/chme-2018-research-conference-bournemouth/
LOCATION:Bournemouth University\, Fusion\, FG06\, Fusion\, Bournemouth\, BH12 5BB\, United Kingdom
CATEGORIES:Conference
ORGANIZER;CN="Bournemouth%20University":MAILTO:dbuhalis@bournemouth.ac.uk
END:VEVENT
BEGIN:VEVENT
DTSTART;VALUE=DATE:20180522
DTEND;VALUE=DATE:20180523
DTSTAMP:20260420T054022
CREATED:20171206T161543Z
LAST-MODIFIED:20171206T161543Z
UID:3044-1526947200-1527033599@microsites.bournemouth.ac.uk
SUMMARY:CHME2018 PHD Workshop
DESCRIPTION:PhD Workshop \nAs part of the conference\, we will be hosting a workshop for doctoral candidates on 22nd May 2018. This pre-conference event provides a platform for doctoral students undertaking research on various aspects of hospitality management to interact with peers and leading scholars in the field. The workshop offers doctoral students an opportunity to share and develop their research ideas in a supportive environment\, obtain feedback from mentors who are senior academics and established researchers\, explore issues related to academic and research careers\, and build relationships within the broader academic community from around the world. The event has purposefully integrated an early career researchers’ development session (so-called publication retreat) in the programme curriculum which enables doctoral students to meet editors of leading tourism and hospitality journals and gain first-hand advice on devising the most effective strategies for writing and submitting papers to top journal titles. \nThis PhD Workshop is provided FREE of CHARGE to those registered to attend the CHME 2018 conference. The CHME 2018 conference is heavily discounted for students to encourage active participation. For those willing to attend the PhD Workshop only\, there is a registration fee of £65. \n\nCall for Research Proposals \nThe workshop invites all interested doctoral students to submit their research proposals for review and feedback. The research proposals should be a maximum length of 4 A4 sized-pages and should typically include the following headings: \n\nProblem statement/definition;\nBrief literature review;\nConceptual development;\nProposed methodology;\nOutcome/Anticipated results;\n\nProposals can be submitted for presentation in either oral or poster format. 15 minutes will be allocated to oral presentations (10 minutes to present and 5 minutes for Q & A and feedback). Poster presentations will be available throughout the day for comments and feedback. Please state in your proposal which format you would like to present in. \nEach submission will undergo a review process. Students will be notified about the review outcome\, along with recommendations on how to improve the proposal (if applicable) before the workshop. \n\nSubmission \nPlease submit your research proposals to vfilimonau@bournemouth.ac.uk by the deadline below. \nTime Schedule  \n\nSubmission closes: Friday\, 26th January 2018\nNotification of Acceptance/Rejection/Revision: Friday\, 9th February 2018\nSubmit revised proposal (if applicable): Friday\, 23rd February 2018\nFinal acceptance (if applicable): Friday\, 2nd March 2018\nPhD Workshop: 22nd of May\, 2018\nCHME Conference: 23rd – 26th May\, 2018\n\n\n\nFor queries\, please email one of the CHME2018 PHD Workshop Chairs \nNeelu Seetaram\, Bournemouth University at nseetaram@bournemouth.ac.uk \nViachaslau Filimonau Bournemouth University at vfilimonau@bournemouth.ac.uk \nAdele Ladkin\, Bournemouth University at aladkin@bournemouth.ac.uk \nWe look forward to seeing you in beautiful Bournemouth in May 2018. \n 
URL:https://microsites.bournemouth.ac.uk/etourism-lab/event/chme2018-phd-workshop/
LOCATION:Bournemouth University\, Fusion\, FG06\, Fusion\, Bournemouth\, BH12 5BB\, United Kingdom
CATEGORIES:Workshop
ORGANIZER;CN="Bournemouth%20University":MAILTO:dbuhalis@bournemouth.ac.uk
END:VEVENT
END:VCALENDAR