BEGIN:VCALENDAR
VERSION:2.0
PRODID:-//eTourismLab - ECPv6.0.9//NONSGML v1.0//EN
CALSCALE:GREGORIAN
METHOD:PUBLISH
X-WR-CALNAME:eTourismLab
X-ORIGINAL-URL:https://microsites.bournemouth.ac.uk/etourism-lab
X-WR-CALDESC:Events for eTourismLab
REFRESH-INTERVAL;VALUE=DURATION:PT1H
X-Robots-Tag:noindex
X-PUBLISHED-TTL:PT1H
BEGIN:VTIMEZONE
TZID:UTC
BEGIN:STANDARD
TZOFFSETFROM:+0000
TZOFFSETTO:+0000
TZNAME:UTC
DTSTART:20170101T000000
END:STANDARD
END:VTIMEZONE
BEGIN:VEVENT
DTSTART;TZID=UTC:20170711T100000
DTEND;TZID=UTC:20170711T170000
DTSTAMP:20260425T124533
CREATED:20170219T190338Z
LAST-MODIFIED:20170219T190338Z
UID:2891-1499767200-1499792400@microsites.bournemouth.ac.uk
SUMMARY:Smart Tourism and Agile Destination Management
DESCRIPTION:Smart Tourism and Agile Destination Management\nDept of Tourism and Hospitality Bournemouth University\nTuesday 11 July 2017 \n Share Lecture Theatre\, Talbot Campus 10:00-17:00 \nSmart systems take advantage of interconnectivity and interoperability of integrated technologies to reengineer processes and data in order to produce innovative services\, products and procedures towards maximising value for all stakeholders. Smartness reengineers economies and industries\, and shapes products\, actions\, processes and services in real-time. Agility engages different stakeholders simultaneously to optimise the collective performance and competitiveness and generate benefits for all involved in the value system. To achieve that\, smart systems use innovative robust technology\, the Internet of everything\, cloud computing\, big data\, advanced data analytics\, and a robust and ever expanding communications infrastructure. \nBased on Smart Cities research and methodologies\, a Smart Tourism Destination successfully implements smartness and agility to ensure that everybody is interconnected and processes are integrated towards value generation\, through dynamic co-creation\, sustainable resources and dynamic personalisation and adaptation to context. All suppliers and intermediaries\, the public sector\, as well as consumers and various interested parties are networked\, dynamically co-producing value for everybody interconnected in the ecosystem. \n\n\nPreliminary programme: \n10:00-10:30 Registration\n10:30-12:00 Smartness and agility : technology towards a connected world\n12:00-13:00 Break\n13:00-14:30 Smart Business and agile innovations\n14:30-15:00 Break\n15:30-16:30 Smart Destinations and building agile ecosystems\n16:30-17:00 Smart Futures and conclusions\n\nMore information: https://www.facebook.com/events/249766028804417/
URL:https://microsites.bournemouth.ac.uk/etourism-lab/event/smart-tourism-and-agile-destination-management/
LOCATION:Bournemouth University\, Fusion\, FG06\, Fusion\, Bournemouth\, BH12 5BB\, United Kingdom
CATEGORIES:Workshop
ORGANIZER;CN="Bournemouth%20University":MAILTO:dbuhalis@bournemouth.ac.uk
END:VEVENT
END:VCALENDAR